BEGIN:VCALENDAR
VERSION:2.0
PRODID:-//www.northeastraces.com//northeastraces//EN
METHOD:PUBLISH
BEGIN:VEVENT
UID:2026-09-06-waverley-sheffield@www.northeastraces.com
DESCRIPTION:details=http://www.northeastraces.com/#2026-09-06-waverley-sheffield\, length=10K\, cd=?\, eods=?\, results=?
LOCATION:S60 8AL (Waverley (Sheffield))
SUMMARY:Waverley Dash\, cd=?\, eods=?
DTSTART;VALUE=DATE:20260906
DTEND;VALUE=DATE:20260906
DTSTAMP:20260327T193745Z
URL:http://www.northeastraces.com/#2026-09-06-waverley-sheffield
END:VEVENT
END:VCALENDAR