BEGIN:VCALENDAR
VERSION:2.0
PRODID:-//www.northeastraces.com//northeastraces//EN
METHOD:PUBLISH
BEGIN:VEVENT
UID:2026-09-06-tibthorpe-driffield@www.northeastraces.com
DESCRIPTION:details=http://www.northeastraces.com/#2026-09-06-tibthorpe-driffield\, length=8M and 4M\, cd=?\, eods=?\, results=?
LOCATION:YO25 9JZ (Tibthorpe (Driffield))
SUMMARY:Trails and Tails 4M and 8M\, cd=?\, eods=?
DTSTART;VALUE=DATE:20260906
DTEND;VALUE=DATE:20260906
DTSTAMP:20260327T171915Z
URL:http://www.northeastraces.com/#2026-09-06-tibthorpe-driffield
END:VEVENT
END:VCALENDAR