BEGIN:VCALENDAR
VERSION:2.0
PRODID:-//www.northeastraces.com//northeastraces//EN
METHOD:PUBLISH
BEGIN:VEVENT
UID:2026-09-06-tholthorpe-york@www.northeastraces.com
DESCRIPTION:details=http://www.northeastraces.com/#2026-09-06-tholthorpe-york\, length=10K\, cd=?\, eods=see_comments\, results=?
LOCATION:YO61 1SW (Tholthorpe (York))
SUMMARY:Tholthorpe 10K at 1100\, cd=?\, eods=see_comments
DTSTART:20260906T110000Z
DTEND:20260906T120000Z
DTSTAMP:20260327T165429Z
URL:http://www.northeastraces.com/#2026-09-06-tholthorpe-york
END:VEVENT
END:VCALENDAR