BEGIN:VCALENDAR
VERSION:2.0
PRODID:-//www.northeastraces.com//northeastraces//EN
METHOD:PUBLISH
BEGIN:VEVENT
UID:2026-09-06-garforth-leeds@www.northeastraces.com
DESCRIPTION:details=http://www.northeastraces.com/#2026-09-06-garforth-leeds\, length=11.75M and 11.15M and 9.8M and 11.5M and 10.06M and 9.7M\, cd=?\, eods=?\, results=?
LOCATION:LS25 1NX (Garforth (Leeds))
SUMMARY:Leeds Country Way\, cd=?\, eods=?
DTSTART;VALUE=DATE:20260906
DTEND;VALUE=DATE:20260906
DTSTAMP:20260401T060825Z
URL:http://www.northeastraces.com/#2026-09-06-garforth-leeds
END:VEVENT
END:VCALENDAR