BEGIN:VCALENDAR
VERSION:2.0
PRODID:-//www.northeastraces.com//northeastraces//EN
METHOD:PUBLISH
BEGIN:VEVENT
UID:2026-09-05-keswick@www.northeastraces.com
DESCRIPTION:details=http://www.northeastraces.com/#2026-09-05-keswick\, length=15K and 10K and 5K\, cd=?\, eods=?\, results=?
LOCATION:CA12 4NF (Keswick)
SUMMARY:Lakeland Trails in Keswick 15K/10K/5K\, cd=?\, eods=?
DTSTART;VALUE=DATE:20260905
DTEND;VALUE=DATE:20260905
DTSTAMP:20260327T154143Z
URL:http://www.northeastraces.com/#2026-09-05-keswick
END:VEVENT
END:VCALENDAR