BEGIN:VCALENDAR
VERSION:2.0
PRODID:-//www.northeastraces.com//northeastraces//EN
METHOD:PUBLISH
BEGIN:VEVENT
UID:2026-09-05-huddersfield@www.northeastraces.com
DESCRIPTION:details=http://www.northeastraces.com/#2026-09-05-huddersfield\, length=10K\, cd=?\, eods=?\, results=?
LOCATION:HD7 5SP (Huddersfield)
SUMMARY:Heights 10K at 1030\, cd=?\, eods=?
DTSTART:20260905T103000Z
DTEND:20260905T113000Z
DTSTAMP:20260327T153153Z
URL:http://www.northeastraces.com/#2026-09-05-huddersfield
END:VEVENT
END:VCALENDAR