BEGIN:VCALENDAR
VERSION:2.0
PRODID:-//www.northeastraces.com//northeastraces//EN
METHOD:PUBLISH
BEGIN:VEVENT
UID:2026-09-11-newcastle@www.northeastraces.com
DESCRIPTION:details=http://www.northeastraces.com/#2026-09-11-newcastle\, length=5K\, cd=?\, eods=?\, results=?
LOCATION:NE1 3DE (Newcastle)
SUMMARY:Great North 5K at 1800\, cd=?\, eods=?
DTSTART:20260911T180000Z
DTEND:20260911T190000Z
DTSTAMP:20260327T151500Z
URL:http://www.northeastraces.com/#2026-09-11-newcastle
END:VEVENT
END:VCALENDAR