BEGIN:VCALENDAR
VERSION:2.0
PRODID:-//www.northeastraces.com//northeastraces//EN
METHOD:PUBLISH
BEGIN:VEVENT
UID:2026-09-03-yarm@www.northeastraces.com
DESCRIPTION:details=http://www.northeastraces.com/#2026-09-03-yarm\, length=5K\, cd=?\, eods=?\, results=?
LOCATION:TS15 9PA (Yarm)
SUMMARY:MR Summer Trail 5Ks - Race 6 - HMP Kirklevington at 1845\, cd=?\, eods=?
DTSTART:20260903T184500Z
DTEND:20260903T194500Z
DTSTAMP:20260327T105655Z
URL:http://www.northeastraces.com/#2026-09-03-yarm
END:VEVENT
END:VCALENDAR