BEGIN:VCALENDAR
VERSION:2.0
PRODID:-//www.northeastraces.com//northeastraces//EN
METHOD:PUBLISH
BEGIN:VEVENT
UID:2026-06-03-redcar@www.northeastraces.com
DESCRIPTION:details=http://www.northeastraces.com/#2026-06-03-redcar\, length=5K and 3K\, cd=?\, eods=?\, results=no_results
LOCATION:TS10 5PZ (Redcar)
SUMMARY:Burger and Trail 3K and 5K at 1930/1900\, cd=?\, eods=?
DTSTART;VALUE=DATE:20260603
DTEND;VALUE=DATE:20260603
DTSTAMP:20260327T094356Z
URL:http://www.northeastraces.com/#2026-06-03-redcar
END:VEVENT
END:VCALENDAR