BEGIN:VCALENDAR
VERSION:2.0
PRODID:-//www.northeastraces.com//northeastraces//EN
METHOD:PUBLISH
BEGIN:VEVENT
UID:2026-09-09-redcar@www.northeastraces.com
DESCRIPTION:details=http://www.northeastraces.com/#2026-09-09-redcar\, length=5K\, cd=?\, eods=?\, results=?
LOCATION:TS10 3RW (Redcar)
SUMMARY:Autumn Coast Road 5K at 1915\, cd=?\, eods=?
DTSTART:20260909T191500Z
DTEND:20260909T201500Z
DTSTAMP:20260413T055209Z
URL:http://www.northeastraces.com/#2026-09-09-redcar
END:VEVENT
END:VCALENDAR