BEGIN:VCALENDAR
VERSION:2.0
PRODID:-//www.northeastraces.com//northeastraces//EN
METHOD:PUBLISH
BEGIN:VEVENT
UID:2026-05-20-calverley-bridge-leeds@www.northeastraces.com
DESCRIPTION:details=http://www.northeastraces.com/#2026-05-20-calverley-bridge-leeds\, length=12K\, cd=?\, eods=yes\, results=?
LOCATION:LS13 1NR (Calverley Bridge (Leeds))
SUMMARY:Calverley Chaos at 1900\, cd=?\, eods=yes
DTSTART:20260520T190000Z
DTEND:20260520T200000Z
DTSTAMP:20260327T080154Z
URL:http://www.northeastraces.com/#2026-05-20-calverley-bridge-leeds
END:VEVENT
END:VCALENDAR