BEGIN:VCALENDAR
VERSION:2.0
PRODID:-//www.northeastraces.com//northeastraces//EN
METHOD:PUBLISH
BEGIN:VEVENT
UID:2026-07-15-wallington-northumberland@www.northeastraces.com
DESCRIPTION:details=http://www.northeastraces.com/#2026-07-15-wallington-northumberland\, length=10K\, cd=?\, eods=?\, results=?
LOCATION:NE61 4AP (Wallington (Northumberland))
SUMMARY:Run Northumberland Wallington 10K\, cd=?\, eods=?
DTSTART;VALUE=DATE:20260715
DTEND;VALUE=DATE:20260715
DTSTAMP:20260326T145101Z
URL:http://www.northeastraces.com/#2026-07-15-wallington-northumberland
END:VEVENT
END:VCALENDAR