BEGIN:VCALENDAR
VERSION:2.0
PRODID:-//www.northeastraces.com//northeastraces//EN
METHOD:PUBLISH
BEGIN:VEVENT
UID:2026-05-28-slaithwaite-kirklees@www.northeastraces.com
DESCRIPTION:details=http://www.northeastraces.com/#2026-05-28-slaithwaite-kirklees\, length=10K and 5K\, cd=?\, eods=?\, results=?
LOCATION:HD7 5HA (Slaithwaite (Kirklees))
SUMMARY:Slawit - Rock up n' Run - May\, cd=?\, eods=?
DTSTART;VALUE=DATE:20260528
DTEND;VALUE=DATE:20260528
DTSTAMP:20260321T084944Z
URL:http://www.northeastraces.com/#2026-05-28-slaithwaite-kirklees
END:VEVENT
END:VCALENDAR