BEGIN:VCALENDAR
VERSION:2.0
PRODID:-//www.northeastraces.com//northeastraces//EN
METHOD:PUBLISH
BEGIN:VEVENT
UID:2026-05-21-saltaire@www.northeastraces.com
DESCRIPTION:details=http://www.northeastraces.com/#2026-05-21-saltaire\, length=10K and 5K\, cd=?\, eods=?\, results=?
LOCATION:BD18 3LE (Saltaire)
SUMMARY:Saltaire - Rock up n' Run - May\, cd=?\, eods=?
DTSTART;VALUE=DATE:20260521
DTEND;VALUE=DATE:20260521
DTSTAMP:20260321T084613Z
URL:http://www.northeastraces.com/#2026-05-21-saltaire
END:VEVENT
END:VCALENDAR