BEGIN:VCALENDAR
VERSION:2.0
PRODID:-//www.northeastraces.com//northeastraces//EN
METHOD:PUBLISH
BEGIN:VEVENT
UID:2026-05-14-rodley-leeds@www.northeastraces.com
DESCRIPTION:details=http://www.northeastraces.com/#2026-05-14-rodley-leeds\, length=10K and 5K\, cd=?\, eods=?\, results=?
LOCATION:LS13 1HP (Rodley (Leeds))
SUMMARY:Rodley - Rock up n' Run - May\, cd=?\, eods=?
DTSTART;VALUE=DATE:20260514
DTEND;VALUE=DATE:20260514
DTSTAMP:20260321T082619Z
URL:http://www.northeastraces.com/#2026-05-14-rodley-leeds
END:VEVENT
END:VCALENDAR