BEGIN:VCALENDAR
VERSION:2.0
PRODID:-//www.northeastraces.com//northeastraces//EN
METHOD:PUBLISH
BEGIN:VEVENT
UID:2026-05-07-kirkstall-leeds@www.northeastraces.com
DESCRIPTION:details=http://www.northeastraces.com/#2026-05-07-kirkstall-leeds\, length=10K and 5K\, cd=?\, eods=?\, results=?
LOCATION:LS5 3BT (Kirkstall (Leeds))
SUMMARY:Kirkstall Rock n' Run - May\, cd=?\, eods=?
DTSTART;VALUE=DATE:20260507
DTEND;VALUE=DATE:20260507
DTSTAMP:20260420T053249Z
URL:http://www.northeastraces.com/#2026-05-07-kirkstall-leeds
END:VEVENT
END:VCALENDAR